BEGIN:VCALENDAR
VERSION:2.0
PRODID:-//Fanari Academy Of Greek Education - ECPv6.15.11//NONSGML v1.0//EN
CALSCALE:GREGORIAN
METHOD:PUBLISH
X-ORIGINAL-URL:https://www.fanari-academy.org
X-WR-CALDESC:Events for Fanari Academy Of Greek Education
REFRESH-INTERVAL;VALUE=DURATION:PT1H
X-Robots-Tag:noindex
X-PUBLISHED-TTL:PT1H
BEGIN:VTIMEZONE
TZID:UTC
BEGIN:STANDARD
TZOFFSETFROM:+0000
TZOFFSETTO:+0000
TZNAME:UTC
DTSTART:20240101T000000
END:STANDARD
END:VTIMEZONE
BEGIN:VEVENT
DTSTART;VALUE=DATE:20250315
DTEND;VALUE=DATE:20250316
DTSTAMP:20260419T064845
CREATED:20240923T091913Z
LAST-MODIFIED:20240923T091913Z
UID:27958-1741996800-1742083199@www.fanari-academy.org
SUMMARY:School-wide rehearsal (Auditorium) Sunnyvale Campus
DESCRIPTION:
URL:https://www.fanari-academy.org/event/school-wide-rehearsal-auditorium-sunnyvale-campus-2/
LOCATION:Sunnyvale School
CATEGORIES:Celebrations,School
END:VEVENT
BEGIN:VEVENT
DTSTART;VALUE=DATE:20250321
DTEND;VALUE=DATE:20250322
DTSTAMP:20260419T064845
CREATED:20240830T032615Z
LAST-MODIFIED:20240831T061625Z
UID:27876-1742515200-1742601599@www.fanari-academy.org
SUMMARY:School-wide rehearsal  (Auditorium) SF Campus
DESCRIPTION:School-wide rehearsal  (Auditorium) SF Campus
URL:https://www.fanari-academy.org/event/school-wide-rehearsal-auditorium-2/
LOCATION:San Francisco School
CATEGORIES:School
END:VEVENT
BEGIN:VEVENT
DTSTART;VALUE=DATE:20250322
DTEND;VALUE=DATE:20250323
DTSTAMP:20260419T064845
CREATED:20240923T091444Z
LAST-MODIFIED:20240923T091444Z
UID:27952-1742601600-1742687999@www.fanari-academy.org
SUMMARY:Greek Independence Day Celebration (Auditorium)/Bake Sale (Sunnyvale Campus)
DESCRIPTION:
URL:https://www.fanari-academy.org/event/greek-independence-day-celebration-auditorium-bake-sale-sunnyvale-campus/
LOCATION:Sunnyvale School
CATEGORIES:Celebrations,School
END:VEVENT
BEGIN:VEVENT
DTSTART;VALUE=DATE:20250324
DTEND;VALUE=DATE:20250325
DTSTAMP:20260419T064845
CREATED:20240830T032653Z
LAST-MODIFIED:20240830T032653Z
UID:27878-1742774400-1742860799@www.fanari-academy.org
SUMMARY:Greek Independence Day Celebration (Auditorium)
DESCRIPTION:Greek Independence Day Celebration (Auditorium)
URL:https://www.fanari-academy.org/event/greek-independence-day-celebration-auditorium/
LOCATION:San Francisco School
CATEGORIES:School
END:VEVENT
BEGIN:VEVENT
DTSTART;VALUE=DATE:20250328
DTEND;VALUE=DATE:20250329
DTSTAMP:20260419T064845
CREATED:20240830T032851Z
LAST-MODIFIED:20240830T032851Z
UID:27880-1743120000-1743206399@www.fanari-academy.org
SUMMARY:4th Staff Meeting (NO classes- Lawton school is closed)
DESCRIPTION:4th Staff Meeting (NO classes- Lawton school is closed)
URL:https://www.fanari-academy.org/event/4th-staff-meeting-no-classes-lawton-school-is-closed/
LOCATION:San Francisco School
CATEGORIES:School
END:VEVENT
BEGIN:VEVENT
DTSTART;VALUE=DATE:20250331
DTEND;VALUE=DATE:20250401
DTSTAMP:20260419T064845
CREATED:20240830T032933Z
LAST-MODIFIED:20240830T032933Z
UID:27882-1743379200-1743465599@www.fanari-academy.org
SUMMARY:ZOOM classes (Lawton school is closed)
DESCRIPTION:ZOOM classes (Lawton school is closed)
URL:https://www.fanari-academy.org/event/zoom-classes-lawton-school-is-closed/
LOCATION:San Francisco School
CATEGORIES:School
END:VEVENT
BEGIN:VEVENT
DTSTART;VALUE=DATE:20250331
DTEND;VALUE=DATE:20250405
DTSTAMP:20260419T064845
CREATED:20240831T060111Z
LAST-MODIFIED:20240831T060111Z
UID:27930-1743379200-1743811199@www.fanari-academy.org
SUMMARY:Online Classes for Sunnyvale Campus
DESCRIPTION:NO classes held in person at TKA campus\nAll the Fanari classes will be online
URL:https://www.fanari-academy.org/event/online-classes-for-sunnyvale-campus/
LOCATION:Sunnyvale School
CATEGORIES:School
END:VEVENT
END:VCALENDAR