BEGIN:VCALENDAR
VERSION:2.0
PRODID:-//Fanari Academy Of Greek Education - ECPv6.15.11//NONSGML v1.0//EN
CALSCALE:GREGORIAN
METHOD:PUBLISH
X-WR-CALNAME:Fanari Academy Of Greek Education
X-ORIGINAL-URL:https://www.fanari-academy.org
X-WR-CALDESC:Events for Fanari Academy Of Greek Education
REFRESH-INTERVAL;VALUE=DURATION:PT1H
X-Robots-Tag:noindex
X-PUBLISHED-TTL:PT1H
BEGIN:VTIMEZONE
TZID:UTC
BEGIN:STANDARD
TZOFFSETFROM:+0000
TZOFFSETTO:+0000
TZNAME:UTC
DTSTART:20240101T000000
END:STANDARD
END:VTIMEZONE
BEGIN:VEVENT
DTSTART;VALUE=DATE:20251206
DTEND;VALUE=DATE:20251207
DTSTAMP:20260420T030048
CREATED:20250906T091915Z
LAST-MODIFIED:20251102T190700Z
UID:28067-1764979200-1765065599@www.fanari-academy.org
SUMMARY:Online Classes (ZOOM) Sunnyvale
DESCRIPTION:Online Classes (ZOOM) for Sunnyvale School
URL:https://www.fanari-academy.org/event/online-classes-sunnyvale-december-2025/
LOCATION:Sunnyvale School
CATEGORIES:School
END:VEVENT
END:VCALENDAR