BEGIN:VCALENDAR
VERSION:2.0
PRODID:-//Fanari Academy Of Greek Education - ECPv6.15.11//NONSGML v1.0//EN
CALSCALE:GREGORIAN
METHOD:PUBLISH
X-ORIGINAL-URL:https://www.fanari-academy.org
X-WR-CALDESC:Events for Fanari Academy Of Greek Education
REFRESH-INTERVAL;VALUE=DURATION:PT1H
X-Robots-Tag:noindex
X-PUBLISHED-TTL:PT1H
BEGIN:VTIMEZONE
TZID:UTC
BEGIN:STANDARD
TZOFFSETFROM:+0000
TZOFFSETTO:+0000
TZNAME:UTC
DTSTART:20240101T000000
END:STANDARD
END:VTIMEZONE
BEGIN:VEVENT
DTSTART;VALUE=DATE:20251203
DTEND;VALUE=DATE:20251204
DTSTAMP:20260419T234332
CREATED:20250906T091750Z
LAST-MODIFIED:20250928T025428Z
UID:28065-1764720000-1764806399@www.fanari-academy.org
SUMMARY:Parent Teacher Conferences Begin (classes as usual)
DESCRIPTION:Parent Teacher Conferences Begin (classes as usual) for Sunnyvale
URL:https://www.fanari-academy.org/event/parent-teacher-conferences-begin-classes-as-usual-5/
LOCATION:Sunnyvale School
CATEGORIES:School
END:VEVENT
END:VCALENDAR