BEGIN:VCALENDAR
VERSION:2.0
PRODID:-//Fanari Academy Of Greek Education - ECPv6.15.11//NONSGML v1.0//EN
CALSCALE:GREGORIAN
METHOD:PUBLISH
X-ORIGINAL-URL:https://www.fanari-academy.org
X-WR-CALDESC:Events for Fanari Academy Of Greek Education
REFRESH-INTERVAL;VALUE=DURATION:PT1H
X-Robots-Tag:noindex
X-PUBLISHED-TTL:PT1H
BEGIN:VTIMEZONE
TZID:UTC
BEGIN:STANDARD
TZOFFSETFROM:+0000
TZOFFSETTO:+0000
TZNAME:UTC
DTSTART:20240101T000000
END:STANDARD
END:VTIMEZONE
BEGIN:VEVENT
DTSTART;VALUE=DATE:20250919
DTEND;VALUE=DATE:20250920
DTSTAMP:20260419T131605
CREATED:20250829T010422Z
LAST-MODIFIED:20250928T025602Z
UID:28018-1758240000-1758326399@www.fanari-academy.org
SUMMARY:Back-to-School Event (time will be announced by your teacher) SF School
DESCRIPTION:Back-to-School Event (time will be announced by your teacher)
URL:https://www.fanari-academy.org/event/back-to-school-event-time-will-be-announced-by-your-teacher-sf-school/
LOCATION:San Francisco School
CATEGORIES:School
END:VEVENT
END:VCALENDAR