BEGIN:VCALENDAR
VERSION:2.0
PRODID:-//Fanari Academy Of Greek Education - ECPv6.15.11//NONSGML v1.0//EN
CALSCALE:GREGORIAN
METHOD:PUBLISH
X-ORIGINAL-URL:https://www.fanari-academy.org
X-WR-CALDESC:Events for Fanari Academy Of Greek Education
REFRESH-INTERVAL;VALUE=DURATION:PT1H
X-Robots-Tag:noindex
X-PUBLISHED-TTL:PT1H
BEGIN:VTIMEZONE
TZID:UTC
BEGIN:STANDARD
TZOFFSETFROM:+0000
TZOFFSETTO:+0000
TZNAME:UTC
DTSTART:20240101T000000
END:STANDARD
END:VTIMEZONE
BEGIN:VEVENT
DTSTART;VALUE=DATE:20250917
DTEND;VALUE=DATE:20250918
DTSTAMP:20260419T131404
CREATED:20250906T090841Z
LAST-MODIFIED:20250928T025622Z
UID:28059-1758067200-1758153599@www.fanari-academy.org
SUMMARY:First Day of the School (Sunnyvale School)
DESCRIPTION:First Day of the School (Sunnyvale School)
URL:https://www.fanari-academy.org/event/first-day-of-the-school-sunnyvale-school-2025-2026/
LOCATION:Sunnyvale School
CATEGORIES:School
END:VEVENT
END:VCALENDAR