BEGIN:VCALENDAR
VERSION:2.0
PRODID:-//Fanari Academy Of Greek Education - ECPv6.15.11//NONSGML v1.0//EN
CALSCALE:GREGORIAN
METHOD:PUBLISH
X-ORIGINAL-URL:https://www.fanari-academy.org
X-WR-CALDESC:Events for Fanari Academy Of Greek Education
REFRESH-INTERVAL;VALUE=DURATION:PT1H
X-Robots-Tag:noindex
X-PUBLISHED-TTL:PT1H
BEGIN:VTIMEZONE
TZID:UTC
BEGIN:STANDARD
TZOFFSETFROM:+0000
TZOFFSETTO:+0000
TZNAME:UTC
DTSTART:20240101T000000
END:STANDARD
END:VTIMEZONE
BEGIN:VEVENT
DTSTART;VALUE=DATE:20250913
DTEND;VALUE=DATE:20250914
DTSTAMP:20260419T131658
CREATED:20250829T010330Z
LAST-MODIFIED:20250928T025647Z
UID:28016-1757721600-1757807999@www.fanari-academy.org
SUMMARY:Certification Class Begins For 2025-2026 (SF school)
DESCRIPTION:Certification Class Begins For 2025-2026 (SF school)
URL:https://www.fanari-academy.org/event/certification-class-begins-for-2025-2026-sf-school/
LOCATION:San Francisco School
CATEGORIES:School
END:VEVENT
END:VCALENDAR