BEGIN:VCALENDAR
VERSION:2.0
PRODID:-//Fanari Academy Of Greek Education - ECPv6.15.11//NONSGML v1.0//EN
CALSCALE:GREGORIAN
METHOD:PUBLISH
X-ORIGINAL-URL:https://www.fanari-academy.org
X-WR-CALDESC:Events for Fanari Academy Of Greek Education
REFRESH-INTERVAL;VALUE=DURATION:PT1H
X-Robots-Tag:noindex
X-PUBLISHED-TTL:PT1H
BEGIN:VTIMEZONE
TZID:UTC
BEGIN:STANDARD
TZOFFSETFROM:+0000
TZOFFSETTO:+0000
TZNAME:UTC
DTSTART:20240101T000000
END:STANDARD
END:VTIMEZONE
BEGIN:VEVENT
DTSTART;VALUE=DATE:20250908
DTEND;VALUE=DATE:20250909
DTSTAMP:20260419T131430
CREATED:20250829T010113Z
LAST-MODIFIED:20250928T025725Z
UID:28012-1757289600-1757375999@www.fanari-academy.org
SUMMARY:1st Staff Meeting (SF School)
DESCRIPTION:1st Staff Meeting (SF School)
URL:https://www.fanari-academy.org/event/1st-staff-meeting-sf-school-2025/
LOCATION:San Francisco School
CATEGORIES:School
END:VEVENT
END:VCALENDAR