BEGIN:VCALENDAR
VERSION:2.0
PRODID:-//Fanari Academy Of Greek Education - ECPv6.15.11//NONSGML v1.0//EN
CALSCALE:GREGORIAN
METHOD:PUBLISH
X-WR-CALNAME:Fanari Academy Of Greek Education
X-ORIGINAL-URL:https://www.fanari-academy.org
X-WR-CALDESC:Events for Fanari Academy Of Greek Education
REFRESH-INTERVAL;VALUE=DURATION:PT1H
X-Robots-Tag:noindex
X-PUBLISHED-TTL:PT1H
BEGIN:VTIMEZONE
TZID:UTC
BEGIN:STANDARD
TZOFFSETFROM:+0000
TZOFFSETTO:+0000
TZNAME:UTC
DTSTART:20240101T000000
END:STANDARD
END:VTIMEZONE
BEGIN:VEVENT
DTSTART;VALUE=DATE:20250905
DTEND;VALUE=DATE:20250906
DTSTAMP:20260419T131159
CREATED:20250829T005945Z
LAST-MODIFIED:20250928T025736Z
UID:28010-1757030400-1757116799@www.fanari-academy.org
SUMMARY:New Student Evaluations For 2025-2026 (SF school)
DESCRIPTION:New Student Evaluations For 2025-2026 (SF school)
URL:https://www.fanari-academy.org/event/new-student-evaluations-for-2025-2026-sf-school-2/
LOCATION:San Francisco School
CATEGORIES:School
END:VEVENT
END:VCALENDAR