BEGIN:VCALENDAR
VERSION:2.0
PRODID:-//Fanari Academy Of Greek Education - ECPv6.15.11//NONSGML v1.0//EN
CALSCALE:GREGORIAN
METHOD:PUBLISH
X-WR-CALNAME:Fanari Academy Of Greek Education
X-ORIGINAL-URL:https://www.fanari-academy.org
X-WR-CALDESC:Events for Fanari Academy Of Greek Education
REFRESH-INTERVAL;VALUE=DURATION:PT1H
X-Robots-Tag:noindex
X-PUBLISHED-TTL:PT1H
BEGIN:VTIMEZONE
TZID:UTC
BEGIN:STANDARD
TZOFFSETFROM:+0000
TZOFFSETTO:+0000
TZNAME:UTC
DTSTART:20240101T000000
END:STANDARD
END:VTIMEZONE
BEGIN:VEVENT
DTSTART;VALUE=DATE:20250902
DTEND;VALUE=DATE:20250903
DTSTAMP:20260419T113238
CREATED:20250829T005741Z
LAST-MODIFIED:20250928T025810Z
UID:28008-1756771200-1756857599@www.fanari-academy.org
SUMMARY:New Student Evaluations For 2025-2026 (SF school)
DESCRIPTION:New Student Evaluations For 2025-2026 (SF school)
URL:https://www.fanari-academy.org/event/new-student-evaluations-sf-school-2025/
LOCATION:San Francisco School
CATEGORIES:School
END:VEVENT
BEGIN:VEVENT
DTSTART;VALUE=DATE:20250902
DTEND;VALUE=DATE:20250903
DTSTAMP:20260419T113238
CREATED:20250906T090655Z
LAST-MODIFIED:20250928T025752Z
UID:28055-1756771200-1756857599@www.fanari-academy.org
SUMMARY:1st Staff Meeting (Sunnyvale School)
DESCRIPTION:1st Staff Meeting (Sunnyvale School)
URL:https://www.fanari-academy.org/event/1st-staff-meeting-sunnyvale-school/
LOCATION:Sunnyvale School
CATEGORIES:School
END:VEVENT
END:VCALENDAR